BEGIN:VCALENDAR
VERSION:2.0
PRODID:Imitheme.com 
BEGIN:VEVENT
UID:20260423T0804111233566720
DTSTAMP;TZID=UTC:2026-04-23 08:04:11
DTSTART;TZID=America/Los_Angeles:20260423T080411
DTEND;TZID=America/Los_Angeles:20260423T080411
SUMMARY:Hall Booking
LOCATION:Sylvan United Church
DESCRIPTION:
URL:https://sylvanunited.ca/eventer/hall-booking-4/
END:VEVENT
END:VCALENDAR
