BEGIN:VCALENDAR
VERSION:2.0
PRODID:Imitheme.com 
BEGIN:VEVENT
UID:20260423T0727141599225688
DTSTAMP;TZID=UTC:2026-04-23 07:27:14
DTSTART;TZID=America/Los_Angeles:20260423T072714
DTEND;TZID=America/Los_Angeles:20260423T072714
SUMMARY:Sanctuary Booking
LOCATION:Sylvan United Church
DESCRIPTION:
URL:https://sylvanunited.ca/eventer/sanctuary-booking-11/
END:VEVENT
END:VCALENDAR
