BEGIN:VCALENDAR
VERSION:2.0
PRODID:Imitheme.com 
BEGIN:VEVENT
UID:20260423T0923194015316
DTSTAMP;TZID=UTC:2026-04-23 09:23:19
DTSTART;TZID=America/Los_Angeles:20260423T092319
DTEND;TZID=America/Los_Angeles:20260423T092319
SUMMARY:Sanctuary Booking
LOCATION:Sylvan United Church
DESCRIPTION:
URL:https://sylvanunited.ca/eventer/sanctuary-booking-14/
END:VEVENT
END:VCALENDAR
