BEGIN:VCALENDAR
VERSION:2.0
PRODID:Imitheme.com 
BEGIN:VEVENT
UID:20260423T0922512114870077
DTSTAMP;TZID=UTC:2026-04-23 09:22:51
DTSTART;TZID=America/Los_Angeles:20260423T092251
DTEND;TZID=America/Los_Angeles:20260423T092251
SUMMARY:Sanctuary Booking
LOCATION:Sylvan United Church
DESCRIPTION:
URL:https://sylvanunited.ca/eventer/sanctuary-booking-13/
END:VEVENT
END:VCALENDAR
