BEGIN:VCALENDAR
VERSION:2.0
PRODID:Imitheme.com 
BEGIN:VEVENT
UID:20260423T111350651782016
DTSTAMP;TZID=UTC:2026-04-23 11:13:50
DTSTART;TZID=America/Los_Angeles:20260423T111350
DTEND;TZID=America/Los_Angeles:20260423T111350
SUMMARY:Sunday Services
LOCATION:Sylvan United Church
DESCRIPTION:Come Worship with us, every Sunday at 10 am!
URL:https://sylvanunited.ca/eventer/worship/
END:VEVENT
END:VCALENDAR
