BEGIN:VCALENDAR
VERSION:2.0
PRODID:Imitheme.com 
BEGIN:VEVENT
UID:20260423T1027351051953542
DTSTAMP;TZID=UTC:2026-04-23 10:27:35
DTSTART;TZID=America/Los_Angeles:20260423T102735
DTEND;TZID=America/Los_Angeles:20260423T102735
SUMMARY:Sanctuary and Hall Booking
LOCATION:Sylvan United Church
DESCRIPTION:
URL:https://sylvanunited.ca/eventer/sanctuary-and-hall-booking/
END:VEVENT
END:VCALENDAR
